BEGIN:VCALENDAR
PRODID:-//Pixl8//Eventfolio//EN
VERSION:2.0
X-WR-TIMEZONE:Europe/London
CALSCALE:GREGORIAN
METHOD:PUBLISH
CLASS:PUBLIC
BEGIN:VTIMEZONE
TZID:Europe/London
LAST-MODIFIED:20260306T231828Z
TZURL:https://www.tzurl.org/zoneinfo-outlook/Europe/London
X-LIC-LOCATION:Europe/London
BEGIN:DAYLIGHT
TZNAME:BST
TZOFFSETFROM:+0000
TZOFFSETTO:+0100
DTSTART:19700329T010000
RRULE:FREQ=YEARLY;BYMONTH=3;BYDAY=-1SU
END:DAYLIGHT
BEGIN:STANDARD
TZNAME:GMT
TZOFFSETFROM:+0100
TZOFFSETTO:+0000
DTSTART:19701025T020000
RRULE:FREQ=YEARLY;BYMONTH=10;BYDAY=-1SU
END:STANDARD
END:VTIMEZONE
BEGIN:VEVENT
DTSTART;TZID=Europe/London;VALUE=DATE:20260520
DTEND;TZID=Europe/London;VALUE=DATE:20260522
DTSTAMP:20260423T053935Z
UID:{B9573E9B-EDF4-4453-A3493AB98A04071A}
LOCATION:London
SUMMARY:10th International Tall Building Fire Safety Conference
DESCRIPTION:The 10th International Tall Building Fire Safety Conference will take place at Canary Wharf, London.\n
 \n
 Event details: https://architecturaltechnology.com/more/event-calendar/10th-international-tall-building-fire-safety-conference.html
PRIORITY:1
END:VEVENT
END:VCALENDAR