BEGIN:VCALENDAR
PRODID:-//Pixl8//Eventfolio//EN
VERSION:2.0
X-WR-TIMEZONE:Europe/London
CALSCALE:GREGORIAN
METHOD:PUBLISH
CLASS:PUBLIC
BEGIN:VTIMEZONE
TZID:Europe/London
LAST-MODIFIED:20260306T231828Z
TZURL:https://www.tzurl.org/zoneinfo-outlook/Europe/London
X-LIC-LOCATION:Europe/London
BEGIN:DAYLIGHT
TZNAME:BST
TZOFFSETFROM:+0000
TZOFFSETTO:+0100
DTSTART:19700329T010000
RRULE:FREQ=YEARLY;BYMONTH=3;BYDAY=-1SU
END:DAYLIGHT
BEGIN:STANDARD
TZNAME:GMT
TZOFFSETFROM:+0100
TZOFFSETTO:+0000
DTSTART:19701025T020000
RRULE:FREQ=YEARLY;BYMONTH=10;BYDAY=-1SU
END:STANDARD
END:VTIMEZONE
BEGIN:VEVENT
DTSTART;TZID=Europe/London:20250623T183000
DTEND;TZID=Europe/London:20250623T210000
DTSTAMP:20260423T150823Z
UID:{B52F71FC-F3FB-4E4A-A9D01EE7B1AD4A04}
LOCATION:Online via Teams
SUMMARY:East Anglia Connect: Meet the Election Candidates! 
DESCRIPTION:Event details: https://architecturaltechnology.com/more/event-calendar/anglia-connect-meet-the-election-candidates.html
PRIORITY:1
END:VEVENT
END:VCALENDAR