BEGIN:VCALENDAR
PRODID:-//Pixl8//Eventfolio//EN
VERSION:2.0
X-WR-TIMEZONE:Europe/London
CALSCALE:GREGORIAN
METHOD:PUBLISH
CLASS:PUBLIC
BEGIN:VTIMEZONE
TZID:Europe/London
LAST-MODIFIED:20260306T231828Z
TZURL:https://www.tzurl.org/zoneinfo-outlook/Europe/London
X-LIC-LOCATION:Europe/London
BEGIN:DAYLIGHT
TZNAME:BST
TZOFFSETFROM:+0000
TZOFFSETTO:+0100
DTSTART:19700329T010000
RRULE:FREQ=YEARLY;BYMONTH=3;BYDAY=-1SU
END:DAYLIGHT
BEGIN:STANDARD
TZNAME:GMT
TZOFFSETFROM:+0100
TZOFFSETTO:+0000
DTSTART:19701025T020000
RRULE:FREQ=YEARLY;BYMONTH=10;BYDAY=-1SU
END:STANDARD
END:VTIMEZONE
BEGIN:VEVENT
DTSTART;TZID=Europe/London:20251121T160000
DTEND;TZID=Europe/London:20251121T180000
DTSTAMP:20260423T192634Z
UID:{93545682-9DF0-4EF4-9CA963C55DAF5423.45982}
LOCATION:Radisson Blu Royal Hotel\, Golden Lane\, Dublin 8\, D08 VRR7
SUMMARY:Annual General Meeting 2025
DESCRIPTION:The Annual General Meeting (AGM) is the yearly business meeting for the Institute, which is required to comply with the Laws of the Institute.\n
 \n
 Event details: https://architecturaltechnology.com/more/event-calendar/annual-general-meeting.html
PRIORITY:1
END:VEVENT
BEGIN:VEVENT
DTSTART;TZID=Europe/London:20251122T000000
DTEND;TZID=Europe/London:20251122T000100
DTSTAMP:20260423T192634Z
UID:{93545682-9DF0-4EF4-9CA963C55DAF5423.45983}
LOCATION:Radisson Blu Royal Hotel\, Golden Lane\, Dublin 8\, D08 VRR7
SUMMARY:Annual General Meeting 2025
DESCRIPTION:The Annual General Meeting (AGM) is the yearly business meeting for the Institute, which is required to comply with the Laws of the Institute.\n
 \n
 Event details: https://architecturaltechnology.com/more/event-calendar/annual-general-meeting.html
PRIORITY:1
END:VEVENT
END:VCALENDAR