BEGIN:VCALENDAR
PRODID:-//Pixl8//Eventfolio//EN
VERSION:2.0
X-WR-TIMEZONE:Europe/London
CALSCALE:GREGORIAN
METHOD:PUBLISH
CLASS:PUBLIC
BEGIN:VTIMEZONE
TZID:Europe/London
LAST-MODIFIED:20260306T231828Z
TZURL:https://www.tzurl.org/zoneinfo-outlook/Europe/London
X-LIC-LOCATION:Europe/London
BEGIN:DAYLIGHT
TZNAME:BST
TZOFFSETFROM:+0000
TZOFFSETTO:+0100
DTSTART:19700329T010000
RRULE:FREQ=YEARLY;BYMONTH=3;BYDAY=-1SU
END:DAYLIGHT
BEGIN:STANDARD
TZNAME:GMT
TZOFFSETFROM:+0100
TZOFFSETTO:+0000
DTSTART:19701025T020000
RRULE:FREQ=YEARLY;BYMONTH=10;BYDAY=-1SU
END:STANDARD
END:VTIMEZONE
BEGIN:VEVENT
DTSTART;TZID=Europe/London:20261007T150000
DTEND;TZID=Europe/London:20261007T210000
DTSTAMP:20260422T210935Z
UID:{A8482730-E1DC-4095-8D16B459858D3281}
LOCATION:The Underglobe
SUMMARY:AT Awards 2026
DESCRIPTION:Join us to celebrate the AT Awards 2026, recognising excellence in Architectural Technology.\n
 \n
 Event details: https://architecturaltechnology.com/more/event-calendar/at-awards-2026.html
PRIORITY:1
END:VEVENT
END:VCALENDAR