BEGIN:VCALENDAR
PRODID:-//Pixl8//Eventfolio//EN
VERSION:2.0
X-WR-TIMEZONE:Europe/London
CALSCALE:GREGORIAN
METHOD:PUBLISH
CLASS:PUBLIC
BEGIN:VTIMEZONE
TZID:Europe/London
LAST-MODIFIED:20260306T231828Z
TZURL:https://www.tzurl.org/zoneinfo-outlook/Europe/London
X-LIC-LOCATION:Europe/London
BEGIN:DAYLIGHT
TZNAME:BST
TZOFFSETFROM:+0000
TZOFFSETTO:+0100
DTSTART:19700329T010000
RRULE:FREQ=YEARLY;BYMONTH=3;BYDAY=-1SU
END:DAYLIGHT
BEGIN:STANDARD
TZNAME:GMT
TZOFFSETFROM:+0100
TZOFFSETTO:+0000
DTSTART:19701025T020000
RRULE:FREQ=YEARLY;BYMONTH=10;BYDAY=-1SU
END:STANDARD
END:VTIMEZONE
BEGIN:VEVENT
DTSTART;TZID=Europe/London:20250925T090000
DTEND;TZID=Europe/London:20250925T173000
DTSTAMP:20260423T155834Z
UID:{FD241940-C532-47DC-AA547B8DD2F0AFA3}
LOCATION:Online
SUMMARY:Biophilia Summit 2025
DESCRIPTION:This year’s Summit, featuring Ann Vanner FCIAT and Robert Bedner MCIAT, brings together leading voices, researchers, and practitioners from six continents to explore the future of biophilic design in cities, education, wellbeing, and leadership.\n
 \n
 Event details: https://architecturaltechnology.com/more/event-calendar/biophilia-summit-2025.html
PRIORITY:1
END:VEVENT
END:VCALENDAR