BEGIN:VCALENDAR
PRODID:-//Pixl8//Eventfolio//EN
VERSION:2.0
X-WR-TIMEZONE:Europe/London
CALSCALE:GREGORIAN
METHOD:PUBLISH
CLASS:PUBLIC
BEGIN:VTIMEZONE
TZID:Europe/London
LAST-MODIFIED:20260306T231828Z
TZURL:https://www.tzurl.org/zoneinfo-outlook/Europe/London
X-LIC-LOCATION:Europe/London
BEGIN:DAYLIGHT
TZNAME:BST
TZOFFSETFROM:+0000
TZOFFSETTO:+0100
DTSTART:19700329T010000
RRULE:FREQ=YEARLY;BYMONTH=3;BYDAY=-1SU
END:DAYLIGHT
BEGIN:STANDARD
TZNAME:GMT
TZOFFSETFROM:+0100
TZOFFSETTO:+0000
DTSTART:19701025T020000
RRULE:FREQ=YEARLY;BYMONTH=10;BYDAY=-1SU
END:STANDARD
END:VTIMEZONE
BEGIN:VEVENT
DTSTART;TZID=Europe/London:20251126T090000
DTEND;TZID=Europe/London:20251126T170000
DTSTAMP:20260424T040052Z
UID:{0C945EDF-60B2-4057-B06A5944404912A9}
LOCATION:Royal Society\, 6-9 Carlton House Terrace\, London\, SW1Y 5AG
SUMMARY:Building Performance Reimagined - What's next?
DESCRIPTION:One-day conference hosted by CIBSE.\n
 \n
 Event details: https://architecturaltechnology.com/more/event-calendar/building-performance-reimagined-what-s-next.html
PRIORITY:1
END:VEVENT
END:VCALENDAR