BEGIN:VCALENDAR
PRODID:-//Pixl8//Eventfolio//EN
VERSION:2.0
X-WR-TIMEZONE:Europe/London
CALSCALE:GREGORIAN
METHOD:PUBLISH
CLASS:PUBLIC
BEGIN:VTIMEZONE
TZID:Europe/London
LAST-MODIFIED:20260306T231828Z
TZURL:https://www.tzurl.org/zoneinfo-outlook/Europe/London
X-LIC-LOCATION:Europe/London
BEGIN:DAYLIGHT
TZNAME:BST
TZOFFSETFROM:+0000
TZOFFSETTO:+0100
DTSTART:19700329T010000
RRULE:FREQ=YEARLY;BYMONTH=3;BYDAY=-1SU
END:DAYLIGHT
BEGIN:STANDARD
TZNAME:GMT
TZOFFSETFROM:+0100
TZOFFSETTO:+0000
DTSTART:19701025T020000
RRULE:FREQ=YEARLY;BYMONTH=10;BYDAY=-1SU
END:STANDARD
END:VTIMEZONE
BEGIN:VEVENT
DTSTART;TZID=Europe/London:20251118T130000
DTEND;TZID=Europe/London:20251118T151500
DTSTAMP:20260423T135846Z
UID:{C1F60B45-DAE8-4157-B1ED7A9CB24BDFA7}
LOCATION:NSBRC\, Swindon
SUMMARY:Carpenter Oak winter CPD event
DESCRIPTION:A two-part presentation on the specification of both traditional and contemporary large-section timber frames.\n
 \n
 Event details: https://architecturaltechnology.com/more/event-calendar/carpenter-oak-winter-cpd-event.html
PRIORITY:1
END:VEVENT
END:VCALENDAR