BEGIN:VCALENDAR
PRODID:-//Pixl8//Eventfolio//EN
VERSION:2.0
X-WR-TIMEZONE:Europe/London
CALSCALE:GREGORIAN
METHOD:PUBLISH
CLASS:PUBLIC
BEGIN:VTIMEZONE
TZID:Europe/London
LAST-MODIFIED:20260306T231828Z
TZURL:https://www.tzurl.org/zoneinfo-outlook/Europe/London
X-LIC-LOCATION:Europe/London
BEGIN:DAYLIGHT
TZNAME:BST
TZOFFSETFROM:+0000
TZOFFSETTO:+0100
DTSTART:19700329T010000
RRULE:FREQ=YEARLY;BYMONTH=3;BYDAY=-1SU
END:DAYLIGHT
BEGIN:STANDARD
TZNAME:GMT
TZOFFSETFROM:+0100
TZOFFSETTO:+0000
DTSTART:19701025T020000
RRULE:FREQ=YEARLY;BYMONTH=10;BYDAY=-1SU
END:STANDARD
END:VTIMEZONE
BEGIN:VEVENT
DTSTART;TZID=Europe/London:20260126T120000
DTEND;TZID=Europe/London:20260126T124500
DTSTAMP:20260423T212806Z
UID:{ED10C462-7722-4ABD-82128EE407436AA4}
LOCATION:
SUMMARY:Chartered Week 2026 employer webinar
DESCRIPTION:CIAT is participating in Chartered Week 2026, which seeks to promote the value of Chartered Status across UK professions, which is taking place from 23-27 February.\n
 \n
 Event details: https://architecturaltechnology.com/more/event-calendar/chartered-week-2026-employer-webinar-2.html
PRIORITY:1
END:VEVENT
END:VCALENDAR