BEGIN:VCALENDAR
PRODID:-//Pixl8//Eventfolio//EN
VERSION:2.0
X-WR-TIMEZONE:Europe/London
CALSCALE:GREGORIAN
METHOD:PUBLISH
CLASS:PUBLIC
BEGIN:VTIMEZONE
TZID:Europe/London
LAST-MODIFIED:20260306T231828Z
TZURL:https://www.tzurl.org/zoneinfo-outlook/Europe/London
X-LIC-LOCATION:Europe/London
BEGIN:DAYLIGHT
TZNAME:BST
TZOFFSETFROM:+0000
TZOFFSETTO:+0100
DTSTART:19700329T010000
RRULE:FREQ=YEARLY;BYMONTH=3;BYDAY=-1SU
END:DAYLIGHT
BEGIN:STANDARD
TZNAME:GMT
TZOFFSETFROM:+0100
TZOFFSETTO:+0000
DTSTART:19701025T020000
RRULE:FREQ=YEARLY;BYMONTH=10;BYDAY=-1SU
END:STANDARD
END:VTIMEZONE
BEGIN:VEVENT
DTSTART;TZID=Europe/London:20260226T180000
DTEND;TZID=Europe/London:20260226T190000
DTSTAMP:20260423T193132Z
UID:{C18ED26D-FA9D-4C7C-AFAD9B923EF201BF}
LOCATION:Online
SUMMARY:CIAT aspiration Insights: York Central
DESCRIPTION:York Central is a major brownfield regeneration site beside York Railway Station and within walking distance of York city centre.\n
 \n
 Event details: https://architecturaltechnology.com/more/event-calendar/ciat-aspiration-insights-york-central.html
PRIORITY:1
END:VEVENT
END:VCALENDAR