BEGIN:VCALENDAR
PRODID:-//Pixl8//Eventfolio//EN
VERSION:2.0
X-WR-TIMEZONE:Europe/London
CALSCALE:GREGORIAN
METHOD:PUBLISH
CLASS:PUBLIC
BEGIN:VTIMEZONE
TZID:Europe/London
LAST-MODIFIED:20260306T231828Z
TZURL:https://www.tzurl.org/zoneinfo-outlook/Europe/London
X-LIC-LOCATION:Europe/London
BEGIN:DAYLIGHT
TZNAME:BST
TZOFFSETFROM:+0000
TZOFFSETTO:+0100
DTSTART:19700329T010000
RRULE:FREQ=YEARLY;BYMONTH=3;BYDAY=-1SU
END:DAYLIGHT
BEGIN:STANDARD
TZNAME:GMT
TZOFFSETFROM:+0100
TZOFFSETTO:+0000
DTSTART:19701025T020000
RRULE:FREQ=YEARLY;BYMONTH=10;BYDAY=-1SU
END:STANDARD
END:VTIMEZONE
BEGIN:VEVENT
DTSTART;TZID=Europe/London:20251203T160000
DTEND;TZID=Europe/London:20251203T173000
DTSTAMP:20260424T130212Z
UID:{4411696E-87E7-43CB-9629CF3DEF1D4E65}
LOCATION:VIA University College
SUMMARY:CIAT Europe aspiration - 12Build and Christmas games
DESCRIPTION:You are welcome to attend this free upcoming in-person event that has been organised by the CIAT Europe aspiration team!\n
 \n
 Event details: https://architecturaltechnology.com/more/event-calendar/ciat-europe-aspiration-12build-and-christmas-games.html
PRIORITY:1
END:VEVENT
END:VCALENDAR