BEGIN:VCALENDAR
PRODID:-//Pixl8//Eventfolio//EN
VERSION:2.0
X-WR-TIMEZONE:Europe/London
CALSCALE:GREGORIAN
METHOD:PUBLISH
CLASS:PUBLIC
BEGIN:VTIMEZONE
TZID:Europe/London
LAST-MODIFIED:20260306T231828Z
TZURL:https://www.tzurl.org/zoneinfo-outlook/Europe/London
X-LIC-LOCATION:Europe/London
BEGIN:DAYLIGHT
TZNAME:BST
TZOFFSETFROM:+0000
TZOFFSETTO:+0100
DTSTART:19700329T010000
RRULE:FREQ=YEARLY;BYMONTH=3;BYDAY=-1SU
END:DAYLIGHT
BEGIN:STANDARD
TZNAME:GMT
TZOFFSETFROM:+0100
TZOFFSETTO:+0000
DTSTART:19701025T020000
RRULE:FREQ=YEARLY;BYMONTH=10;BYDAY=-1SU
END:STANDARD
END:VTIMEZONE
BEGIN:VEVENT
DTSTART;TZID=Europe/London:20251114T180000
DTEND;TZID=Europe/London:20251114T210000
DTSTAMP:20260423T213235Z
UID:{170B88A1-FDC1-4983-93569211D61AD851}
LOCATION:Chance & Counters
SUMMARY:CIAT Wessex Autumn Games night
DESCRIPTION:Join CIAT Wessex and aspiration for an evening of strategy, skill, and a touch of chaos at their Autumn Games Night.\n
 \n
 Event details: https://architecturaltechnology.com/more/event-calendar/ciat-wessex-autumn-games-night.html
PRIORITY:1
END:VEVENT
END:VCALENDAR