BEGIN:VCALENDAR
PRODID:-//Pixl8//Eventfolio//EN
VERSION:2.0
X-WR-TIMEZONE:Europe/London
CALSCALE:GREGORIAN
METHOD:PUBLISH
CLASS:PUBLIC
BEGIN:VTIMEZONE
TZID:Europe/London
LAST-MODIFIED:20260306T231828Z
TZURL:https://www.tzurl.org/zoneinfo-outlook/Europe/London
X-LIC-LOCATION:Europe/London
BEGIN:DAYLIGHT
TZNAME:BST
TZOFFSETFROM:+0000
TZOFFSETTO:+0100
DTSTART:19700329T010000
RRULE:FREQ=YEARLY;BYMONTH=3;BYDAY=-1SU
END:DAYLIGHT
BEGIN:STANDARD
TZNAME:GMT
TZOFFSETFROM:+0100
TZOFFSETTO:+0000
DTSTART:19701025T020000
RRULE:FREQ=YEARLY;BYMONTH=10;BYDAY=-1SU
END:STANDARD
END:VTIMEZONE
BEGIN:VEVENT
DTSTART;TZID=Europe/London:20250813T130000
DTEND;TZID=Europe/London:20250813T134300
DTSTAMP:20260423T212616Z
UID:{C6A6A291-5863-42DF-9524A9BE53091916}
LOCATION:Online
SUMMARY:CPD in 43 | Reducing embodied carbon with a structural engineer
DESCRIPTION:Join CIAT Wessex for a 43 minute online lunchtime CPD presented by Will Arnold of iStructE.\n
 \n
 Event details: https://architecturaltechnology.com/more/event-calendar/cpd-in-43-reducing-embodied-carbon-with-a-structural-engineer.html
PRIORITY:1
END:VEVENT
END:VCALENDAR