BEGIN:VCALENDAR
PRODID:-//Pixl8//Eventfolio//EN
VERSION:2.0
X-WR-TIMEZONE:Europe/London
CALSCALE:GREGORIAN
METHOD:PUBLISH
CLASS:PUBLIC
BEGIN:VTIMEZONE
TZID:Europe/London
LAST-MODIFIED:20260306T231828Z
TZURL:https://www.tzurl.org/zoneinfo-outlook/Europe/London
X-LIC-LOCATION:Europe/London
BEGIN:DAYLIGHT
TZNAME:BST
TZOFFSETFROM:+0000
TZOFFSETTO:+0100
DTSTART:19700329T010000
RRULE:FREQ=YEARLY;BYMONTH=3;BYDAY=-1SU
END:DAYLIGHT
BEGIN:STANDARD
TZNAME:GMT
TZOFFSETFROM:+0100
TZOFFSETTO:+0000
DTSTART:19701025T020000
RRULE:FREQ=YEARLY;BYMONTH=10;BYDAY=-1SU
END:STANDARD
END:VTIMEZONE
BEGIN:VEVENT
DTSTART;TZID=Europe/London:20250611T173000
DTEND;TZID=Europe/London:20250611T210000
DTSTAMP:20260423T121710Z
UID:{C326182D-206F-432B-98E059063FE1ADAB}
LOCATION:Zaha Hadid Architects Gallery\, 101 Goswell Road\, London EC1V 7EZ
SUMMARY:Designing for Everyone: Breaking Barriers in Inclusive Architecture
DESCRIPTION:Join us for an engaging and thought-provoking workshop that challenges conventional approaches to architectural design and champions inclusivity at every stage.\n
 \n
 Event details: https://architecturaltechnology.com/more/event-calendar/designing-for-everyone-breaking-barriers-in-inclusive-architecture.html
PRIORITY:1
END:VEVENT
END:VCALENDAR