BEGIN:VCALENDAR
PRODID:-//Pixl8//Eventfolio//EN
VERSION:2.0
X-WR-TIMEZONE:Europe/London
CALSCALE:GREGORIAN
METHOD:PUBLISH
CLASS:PUBLIC
BEGIN:VTIMEZONE
TZID:Europe/London
LAST-MODIFIED:20260306T231828Z
TZURL:https://www.tzurl.org/zoneinfo-outlook/Europe/London
X-LIC-LOCATION:Europe/London
BEGIN:DAYLIGHT
TZNAME:BST
TZOFFSETFROM:+0000
TZOFFSETTO:+0100
DTSTART:19700329T010000
RRULE:FREQ=YEARLY;BYMONTH=3;BYDAY=-1SU
END:DAYLIGHT
BEGIN:STANDARD
TZNAME:GMT
TZOFFSETFROM:+0100
TZOFFSETTO:+0000
DTSTART:19701025T020000
RRULE:FREQ=YEARLY;BYMONTH=10;BYDAY=-1SU
END:STANDARD
END:VTIMEZONE
BEGIN:VEVENT
DTSTART;TZID=Europe/London:20251119T090000
DTEND;TZID=Europe/London:20251119T170000
DTSTAMP:20260423T234548Z
UID:{2E6F2B2E-87AA-40BA-8903017F601B0310}
LOCATION:Manchester
SUMMARY:Digital Construction North 2025
DESCRIPTION:A one-day conference and exhibition – exclusively for AECO professionals in the North of the UK – is brought to you by the team behind Digital Construction Week.\n
 \n
 Event details: https://architecturaltechnology.com/more/event-calendar/digital-construction-north-2025.html
PRIORITY:1
END:VEVENT
END:VCALENDAR