BEGIN:VCALENDAR
PRODID:-//Pixl8//Eventfolio//EN
VERSION:2.0
X-WR-TIMEZONE:Europe/London
CALSCALE:GREGORIAN
METHOD:PUBLISH
CLASS:PUBLIC
BEGIN:VTIMEZONE
TZID:Europe/London
LAST-MODIFIED:20260306T231828Z
TZURL:https://www.tzurl.org/zoneinfo-outlook/Europe/London
X-LIC-LOCATION:Europe/London
BEGIN:DAYLIGHT
TZNAME:BST
TZOFFSETFROM:+0000
TZOFFSETTO:+0100
DTSTART:19700329T010000
RRULE:FREQ=YEARLY;BYMONTH=3;BYDAY=-1SU
END:DAYLIGHT
BEGIN:STANDARD
TZNAME:GMT
TZOFFSETFROM:+0100
TZOFFSETTO:+0000
DTSTART:19701025T020000
RRULE:FREQ=YEARLY;BYMONTH=10;BYDAY=-1SU
END:STANDARD
END:VTIMEZONE
BEGIN:VEVENT
DTSTART;TZID=Europe/London:20250809T120000
DTEND;TZID=Europe/London:20250809T140000
DTSTAMP:20260425T202107Z
UID:{49FD1BD7-5961-4D64-ABDC036DC5A8434F}
LOCATION:Edinburgh
SUMMARY:EcoMax7: James Lovelock & the Ecology of Gaia
DESCRIPTION:Jonathan Watts, the Guardian's global environmental correspondent, will discuss his new book, The Many Lives of James Lovelock: Science Secrets and Gaia Theory.\n
 \n
 Event details: https://architecturaltechnology.com/more/event-calendar/ecomax7-james-lovelock-the-ecology-of-gaia.html
PRIORITY:1
END:VEVENT
END:VCALENDAR