BEGIN:VCALENDAR
PRODID:-//Pixl8//Eventfolio//EN
VERSION:2.0
X-WR-TIMEZONE:Europe/London
CALSCALE:GREGORIAN
METHOD:PUBLISH
CLASS:PUBLIC
BEGIN:VTIMEZONE
TZID:Europe/London
LAST-MODIFIED:20260306T231828Z
TZURL:https://www.tzurl.org/zoneinfo-outlook/Europe/London
X-LIC-LOCATION:Europe/London
BEGIN:DAYLIGHT
TZNAME:BST
TZOFFSETFROM:+0000
TZOFFSETTO:+0100
DTSTART:19700329T010000
RRULE:FREQ=YEARLY;BYMONTH=3;BYDAY=-1SU
END:DAYLIGHT
BEGIN:STANDARD
TZNAME:GMT
TZOFFSETFROM:+0100
TZOFFSETTO:+0000
DTSTART:19701025T020000
RRULE:FREQ=YEARLY;BYMONTH=10;BYDAY=-1SU
END:STANDARD
END:VTIMEZONE
BEGIN:VEVENT
DTSTART;TZID=Europe/London:20250814T163000
DTEND;TZID=Europe/London:20250814T183000
DTSTAMP:20260423T192939Z
UID:{F7000B7B-DF7A-453C-8700F0B8CE9129BD}
LOCATION:124-125 Princes Street\, Edinburgh\, EH2 4AD
SUMMARY:Embodied Carbon Engineering – Harley Haddow seminar
DESCRIPTION:Join Scotland East Region and Harley Haddow for this exciting in person embodied carbon seminar!\n
 \n
 Event details: https://architecturaltechnology.com/more/event-calendar/embodied-carbon-engineering-harley-haddow-seminar.html
PRIORITY:1
END:VEVENT
END:VCALENDAR