BEGIN:VCALENDAR
PRODID:-//Pixl8//Eventfolio//EN
VERSION:2.0
X-WR-TIMEZONE:Europe/London
CALSCALE:GREGORIAN
METHOD:PUBLISH
CLASS:PUBLIC
BEGIN:VTIMEZONE
TZID:Europe/London
LAST-MODIFIED:20260306T231828Z
TZURL:https://www.tzurl.org/zoneinfo-outlook/Europe/London
X-LIC-LOCATION:Europe/London
BEGIN:DAYLIGHT
TZNAME:BST
TZOFFSETFROM:+0000
TZOFFSETTO:+0100
DTSTART:19700329T010000
RRULE:FREQ=YEARLY;BYMONTH=3;BYDAY=-1SU
END:DAYLIGHT
BEGIN:STANDARD
TZNAME:GMT
TZOFFSETFROM:+0100
TZOFFSETTO:+0000
DTSTART:19701025T020000
RRULE:FREQ=YEARLY;BYMONTH=10;BYDAY=-1SU
END:STANDARD
END:VTIMEZONE
BEGIN:VEVENT
DTSTART;TZID=Europe/London:20250918T123000
DTEND;TZID=Europe/London:20250918T163000
DTSTAMP:20260423T175830Z
UID:{211A4D93-0F83-4D92-8E2AC3FCA9D3950A}
LOCATION:Murrayfield Stadium
SUMMARY:energystore live demo and CPD event
DESCRIPTION:You're invited to a live demonstration event with CPD presentations, networking opportunities, and a complimentary lunch.\n
 \n
 Event details: https://architecturaltechnology.com/more/event-calendar/energystore-live-demo-and-cpd-event.html
PRIORITY:1
END:VEVENT
END:VCALENDAR