BEGIN:VCALENDAR
PRODID:-//Pixl8//Eventfolio//EN
VERSION:2.0
X-WR-TIMEZONE:Europe/London
CALSCALE:GREGORIAN
METHOD:PUBLISH
CLASS:PUBLIC
BEGIN:VTIMEZONE
TZID:Europe/London
LAST-MODIFIED:20260306T231828Z
TZURL:https://www.tzurl.org/zoneinfo-outlook/Europe/London
X-LIC-LOCATION:Europe/London
BEGIN:DAYLIGHT
TZNAME:BST
TZOFFSETFROM:+0000
TZOFFSETTO:+0100
DTSTART:19700329T010000
RRULE:FREQ=YEARLY;BYMONTH=3;BYDAY=-1SU
END:DAYLIGHT
BEGIN:STANDARD
TZNAME:GMT
TZOFFSETFROM:+0100
TZOFFSETTO:+0000
DTSTART:19701025T020000
RRULE:FREQ=YEARLY;BYMONTH=10;BYDAY=-1SU
END:STANDARD
END:VTIMEZONE
BEGIN:VEVENT
DTSTART;TZID=Europe/London;VALUE=DATE:20250603
DTEND;TZID=Europe/London;VALUE=DATE:20250604
DTSTAMP:20260424T204502Z
UID:{1C865C99-0D43-4A77-9C64B0286FEBF8CB}
LOCATION:
SUMMARY:External Wall System Assessment training programme
DESCRIPTION:The RICS External Wall Systems (EWS) Assessment Training Programme is open for enrolment.\n
 \n
 Event details: https://architecturaltechnology.com/more/event-calendar/external-wall-system-assessment-training-programme.html
PRIORITY:1
END:VEVENT
END:VCALENDAR