BEGIN:VCALENDAR
PRODID:-//Pixl8//Eventfolio//EN
VERSION:2.0
X-WR-TIMEZONE:Europe/London
CALSCALE:GREGORIAN
METHOD:PUBLISH
CLASS:PUBLIC
BEGIN:VTIMEZONE
TZID:Europe/London
LAST-MODIFIED:20260306T231828Z
TZURL:https://www.tzurl.org/zoneinfo-outlook/Europe/London
X-LIC-LOCATION:Europe/London
BEGIN:DAYLIGHT
TZNAME:BST
TZOFFSETFROM:+0000
TZOFFSETTO:+0100
DTSTART:19700329T010000
RRULE:FREQ=YEARLY;BYMONTH=3;BYDAY=-1SU
END:DAYLIGHT
BEGIN:STANDARD
TZNAME:GMT
TZOFFSETFROM:+0100
TZOFFSETTO:+0000
DTSTART:19701025T020000
RRULE:FREQ=YEARLY;BYMONTH=10;BYDAY=-1SU
END:STANDARD
END:VTIMEZONE
BEGIN:VEVENT
DTSTART;TZID=Europe/London:20251209T133000
DTEND;TZID=Europe/London:20251209T141500
DTSTAMP:20260423T192954Z
UID:{81141589-B775-419B-AFAAA76C5665B412}
LOCATION:Online
SUMMARY:Fellow Membership (FCIAT) workshop
DESCRIPTION:A free online workshop providing insight into attaining Fellow Membership with CIAT.\n
 \n
 Event details: https://architecturaltechnology.com/more/event-calendar/fellow-membership-fciat-workshop-dec25.html
PRIORITY:1
END:VEVENT
END:VCALENDAR