BEGIN:VCALENDAR
PRODID:-//Pixl8//Eventfolio//EN
VERSION:2.0
X-WR-TIMEZONE:Europe/London
CALSCALE:GREGORIAN
METHOD:PUBLISH
CLASS:PUBLIC
BEGIN:VTIMEZONE
TZID:Europe/London
LAST-MODIFIED:20260306T231828Z
TZURL:https://www.tzurl.org/zoneinfo-outlook/Europe/London
X-LIC-LOCATION:Europe/London
BEGIN:DAYLIGHT
TZNAME:BST
TZOFFSETFROM:+0000
TZOFFSETTO:+0100
DTSTART:19700329T010000
RRULE:FREQ=YEARLY;BYMONTH=3;BYDAY=-1SU
END:DAYLIGHT
BEGIN:STANDARD
TZNAME:GMT
TZOFFSETFROM:+0100
TZOFFSETTO:+0000
DTSTART:19701025T020000
RRULE:FREQ=YEARLY;BYMONTH=10;BYDAY=-1SU
END:STANDARD
END:VTIMEZONE
BEGIN:VEVENT
DTSTART;TZID=Europe/London:20251106T090000
DTEND;TZID=Europe/London:20251106T170000
DTSTAMP:20260423T174830Z
UID:{D672A2F7-7182-4C21-9BC9E437EBFD3F26}
LOCATION:The British Library\, 96 Euston Rd\, London NW1 2DB
SUMMARY:Future Focus: London Development Spotlight
DESCRIPTION:A chance to gain an exclusive look at the major public sector and commercial development projects set to shape the region’s development landscape.\n
 \n
 Event details: https://architecturaltechnology.com/more/event-calendar/future-focus-london-development-spotlight.html
PRIORITY:1
END:VEVENT
END:VCALENDAR