BEGIN:VCALENDAR
PRODID:-//Pixl8//Eventfolio//EN
VERSION:2.0
X-WR-TIMEZONE:Europe/London
CALSCALE:GREGORIAN
METHOD:PUBLISH
CLASS:PUBLIC
BEGIN:VTIMEZONE
TZID:Europe/London
LAST-MODIFIED:20260306T231828Z
TZURL:https://www.tzurl.org/zoneinfo-outlook/Europe/London
X-LIC-LOCATION:Europe/London
BEGIN:DAYLIGHT
TZNAME:BST
TZOFFSETFROM:+0000
TZOFFSETTO:+0100
DTSTART:19700329T010000
RRULE:FREQ=YEARLY;BYMONTH=3;BYDAY=-1SU
END:DAYLIGHT
BEGIN:STANDARD
TZNAME:GMT
TZOFFSETFROM:+0100
TZOFFSETTO:+0000
DTSTART:19701025T020000
RRULE:FREQ=YEARLY;BYMONTH=10;BYDAY=-1SU
END:STANDARD
END:VTIMEZONE
BEGIN:VEVENT
DTSTART;TZID=Europe/London:20260512T090000
DTEND;TZID=Europe/London:20260514T170000
DTSTAMP:20260423T172753Z
UID:{52B04F99-857E-48AB-8E2334F3D54019BD}
LOCATION:Excel London\, Royal Victoria Dock\, 1 Western Gateway\, London E16 1XL
SUMMARY:Futurebuild 2026
DESCRIPTION:CIAT is proud to be an official partner of Futurebuild 2026. Join us and connect with innovations to drive real change in the built environment.\n
 \n
 Event details: https://architecturaltechnology.com/more/event-calendar/futurebuild-2026.html
PRIORITY:1
END:VEVENT
END:VCALENDAR