BEGIN:VCALENDAR
PRODID:-//Pixl8//Eventfolio//EN
VERSION:2.0
X-WR-TIMEZONE:Europe/London
CALSCALE:GREGORIAN
METHOD:PUBLISH
CLASS:PUBLIC
BEGIN:VTIMEZONE
TZID:Europe/London
LAST-MODIFIED:20260306T231828Z
TZURL:https://www.tzurl.org/zoneinfo-outlook/Europe/London
X-LIC-LOCATION:Europe/London
BEGIN:DAYLIGHT
TZNAME:BST
TZOFFSETFROM:+0000
TZOFFSETTO:+0100
DTSTART:19700329T010000
RRULE:FREQ=YEARLY;BYMONTH=3;BYDAY=-1SU
END:DAYLIGHT
BEGIN:STANDARD
TZNAME:GMT
TZOFFSETFROM:+0100
TZOFFSETTO:+0000
DTSTART:19701025T020000
RRULE:FREQ=YEARLY;BYMONTH=10;BYDAY=-1SU
END:STANDARD
END:VTIMEZONE
BEGIN:VEVENT
DTSTART;TZID=Europe/London:20250506T080000
DTEND;TZID=Europe/London:20250506T090000
DTSTAMP:20260423T121139Z
UID:{00553E2D-31FF-4360-856FA6551325D4F2}
LOCATION:Penderels Oak Wetherspoon\, Holborn\, WCIV 7HP
SUMMARY:Greater London Region Coffee Club
DESCRIPTION:Join the Greater London Region for their monthly Coffee Club\n
 \n
 Event details: https://architecturaltechnology.com/more/event-calendar/greater-london-region-coffee-club.html
PRIORITY:1
END:VEVENT
END:VCALENDAR