BEGIN:VCALENDAR
PRODID:-//Pixl8//Eventfolio//EN
VERSION:2.0
X-WR-TIMEZONE:Europe/London
CALSCALE:GREGORIAN
METHOD:PUBLISH
CLASS:PUBLIC
BEGIN:VTIMEZONE
TZID:Europe/London
LAST-MODIFIED:20260306T231828Z
TZURL:https://www.tzurl.org/zoneinfo-outlook/Europe/London
X-LIC-LOCATION:Europe/London
BEGIN:DAYLIGHT
TZNAME:BST
TZOFFSETFROM:+0000
TZOFFSETTO:+0100
DTSTART:19700329T010000
RRULE:FREQ=YEARLY;BYMONTH=3;BYDAY=-1SU
END:DAYLIGHT
BEGIN:STANDARD
TZNAME:GMT
TZOFFSETFROM:+0100
TZOFFSETTO:+0000
DTSTART:19701025T020000
RRULE:FREQ=YEARLY;BYMONTH=10;BYDAY=-1SU
END:STANDARD
END:VTIMEZONE
BEGIN:VEVENT
DTSTART;TZID=Europe/London:20251202T120000
DTEND;TZID=Europe/London:20251202T123000
DTSTAMP:20260423T151112Z
UID:{E8F600AD-97DF-4537-974E30D39BC1567A}
LOCATION:
SUMMARY:Introducing CIAT's Affiliate Group Body Corporate Scheme
DESCRIPTION:Insight into CIAT's Affiliate Group Body Corporate (AGBC) Scheme and how to create a new business-to-business relationship with the leading regulatory body in Architectural Technology.\n
 \n
 Event details: https://architecturaltechnology.com/more/event-calendar/introducing-ciat-s-affiliate-group-body-corporate-scheme.html
PRIORITY:1
END:VEVENT
END:VCALENDAR