BEGIN:VCALENDAR
PRODID:-//Pixl8//Eventfolio//EN
VERSION:2.0
X-WR-TIMEZONE:Europe/London
CALSCALE:GREGORIAN
METHOD:PUBLISH
CLASS:PUBLIC
BEGIN:VTIMEZONE
TZID:Europe/London
LAST-MODIFIED:20260306T231828Z
TZURL:https://www.tzurl.org/zoneinfo-outlook/Europe/London
X-LIC-LOCATION:Europe/London
BEGIN:DAYLIGHT
TZNAME:BST
TZOFFSETFROM:+0000
TZOFFSETTO:+0100
DTSTART:19700329T010000
RRULE:FREQ=YEARLY;BYMONTH=3;BYDAY=-1SU
END:DAYLIGHT
BEGIN:STANDARD
TZNAME:GMT
TZOFFSETFROM:+0100
TZOFFSETTO:+0000
DTSTART:19701025T020000
RRULE:FREQ=YEARLY;BYMONTH=10;BYDAY=-1SU
END:STANDARD
END:VTIMEZONE
BEGIN:VEVENT
DTSTART;TZID=Europe/London;VALUE=DATE:20251031
DTEND;TZID=Europe/London;VALUE=DATE:20251101
DTSTAMP:20260423T212702Z
UID:{DE000444-A199-4C2D-91B8C42D06A5127C}
LOCATION:Online
SUMMARY:Master's in Global BIM Management
DESCRIPTION:Earn a globally recognised double degree and elevate your career to new heights.\n
 \n
 Event details: https://architecturaltechnology.com/more/event-calendar/master-s-in-global-bim-management.html
PRIORITY:1
END:VEVENT
END:VCALENDAR