BEGIN:VCALENDAR
PRODID:-//Pixl8//Eventfolio//EN
VERSION:2.0
X-WR-TIMEZONE:Australia/Melbourne
CALSCALE:GREGORIAN
METHOD:PUBLISH
CLASS:PUBLIC
BEGIN:VTIMEZONE
TZID:Australia/Melbourne
LAST-MODIFIED:20260306T231828Z
TZURL:https://www.tzurl.org/zoneinfo-outlook/Australia/Melbourne
X-LIC-LOCATION:Australia/Melbourne
BEGIN:STANDARD
TZNAME:AEST
TZOFFSETFROM:+1100
TZOFFSETTO:+1000
DTSTART:19700405T030000
RRULE:FREQ=YEARLY;BYMONTH=4;BYDAY=1SU
END:STANDARD
BEGIN:DAYLIGHT
TZNAME:AEDT
TZOFFSETFROM:+1000
TZOFFSETTO:+1100
DTSTART:19701004T020000
RRULE:FREQ=YEARLY;BYMONTH=10;BYDAY=1SU
END:DAYLIGHT
END:VTIMEZONE
BEGIN:VEVENT
DTSTART;TZID=Australia/Melbourne:20251022T093000
DTEND;TZID=Australia/Melbourne:20251023T173000
DTSTAMP:20260423T121802Z
UID:{37870F89-5429-43B3-B87A012364DA8718}
LOCATION:Melbourne\, Australia
SUMMARY:Melbourne Build Expo 2025
DESCRIPTION:Melbourne Build is Victoria's largest and leading construction design show.\n
 \n
 Event details: https://architecturaltechnology.com/more/event-calendar/melbourne-build-expo-2025.html
PRIORITY:1
END:VEVENT
END:VCALENDAR