BEGIN:VCALENDAR
PRODID:-//Pixl8//Eventfolio//EN
VERSION:2.0
X-WR-TIMEZONE:Europe/London
CALSCALE:GREGORIAN
METHOD:PUBLISH
CLASS:PUBLIC
BEGIN:VTIMEZONE
TZID:Europe/London
LAST-MODIFIED:20260306T231828Z
TZURL:https://www.tzurl.org/zoneinfo-outlook/Europe/London
X-LIC-LOCATION:Europe/London
BEGIN:DAYLIGHT
TZNAME:BST
TZOFFSETFROM:+0000
TZOFFSETTO:+0100
DTSTART:19700329T010000
RRULE:FREQ=YEARLY;BYMONTH=3;BYDAY=-1SU
END:DAYLIGHT
BEGIN:STANDARD
TZNAME:GMT
TZOFFSETFROM:+0100
TZOFFSETTO:+0000
DTSTART:19701025T020000
RRULE:FREQ=YEARLY;BYMONTH=10;BYDAY=-1SU
END:STANDARD
END:VTIMEZONE
BEGIN:VEVENT
DTSTART;TZID=Europe/London:20251008T100000
DTEND;TZID=Europe/London:20251008T170000
DTSTAMP:20260423T233223Z
UID:{51BE55EA-1448-4C1B-AC967D4583E9AC81}
LOCATION:1 Federation Street\, NOMA\, Manchester\, M4 4BF
SUMMARY:North West Regional Conference: Celebrating Projects, Practices and People
DESCRIPTION:The North West Region's free second Regional Conference\n
 \n
 Event details: https://architecturaltechnology.com/more/event-calendar/north-west-regional-conference-celebrating-projects-practices-and-people.html
PRIORITY:1
END:VEVENT
END:VCALENDAR