BEGIN:VCALENDAR
PRODID:-//Pixl8//Eventfolio//EN
VERSION:2.0
X-WR-TIMEZONE:Europe/London
CALSCALE:GREGORIAN
METHOD:PUBLISH
CLASS:PUBLIC
BEGIN:VTIMEZONE
TZID:Europe/London
LAST-MODIFIED:20260306T231828Z
TZURL:https://www.tzurl.org/zoneinfo-outlook/Europe/London
X-LIC-LOCATION:Europe/London
BEGIN:DAYLIGHT
TZNAME:BST
TZOFFSETFROM:+0000
TZOFFSETTO:+0100
DTSTART:19700329T010000
RRULE:FREQ=YEARLY;BYMONTH=3;BYDAY=-1SU
END:DAYLIGHT
BEGIN:STANDARD
TZNAME:GMT
TZOFFSETFROM:+0100
TZOFFSETTO:+0000
DTSTART:19701025T020000
RRULE:FREQ=YEARLY;BYMONTH=10;BYDAY=-1SU
END:STANDARD
END:VTIMEZONE
BEGIN:VEVENT
DTSTART;TZID=Europe/London:20251113T130000
DTEND;TZID=Europe/London:20251113T140000
DTSTAMP:20260423T121140Z
UID:{4E81B294-0DC2-49BC-8879C1A88829A7DB}
LOCATION:Online
SUMMARY:Qualifying as a Chartered Architectural Technologist
DESCRIPTION:A free online short course for members and affiliates wanting to understand more about CIAT's professional qualification pathway.\n
 \n
 Event details: https://architecturaltechnology.com/more/event-calendar/qualifying-as-a-chartered-architectural-technologist-nov.html
PRIORITY:1
END:VEVENT
END:VCALENDAR