BEGIN:VCALENDAR
PRODID:-//Pixl8//Eventfolio//EN
VERSION:2.0
X-WR-TIMEZONE:Europe/London
CALSCALE:GREGORIAN
METHOD:PUBLISH
CLASS:PUBLIC
BEGIN:VTIMEZONE
TZID:Europe/London
LAST-MODIFIED:20260306T231828Z
TZURL:https://www.tzurl.org/zoneinfo-outlook/Europe/London
X-LIC-LOCATION:Europe/London
BEGIN:DAYLIGHT
TZNAME:BST
TZOFFSETFROM:+0000
TZOFFSETTO:+0100
DTSTART:19700329T010000
RRULE:FREQ=YEARLY;BYMONTH=3;BYDAY=-1SU
END:DAYLIGHT
BEGIN:STANDARD
TZNAME:GMT
TZOFFSETFROM:+0100
TZOFFSETTO:+0000
DTSTART:19701025T020000
RRULE:FREQ=YEARLY;BYMONTH=10;BYDAY=-1SU
END:STANDARD
END:VTIMEZONE
BEGIN:VEVENT
DTSTART;TZID=Europe/London:20251002T083000
DTEND;TZID=Europe/London:20251002T093000
DTSTAMP:20260423T121222Z
UID:{5D05B3EA-5370-4556-9D7D2D1B961A8587}
LOCATION:
SUMMARY:Registration 101: CEnv Q&A
DESCRIPTION:Free drop-in sessions from SocEnv about your next steps towards your Chartered Environmentalist (CEnv) goal.\n
 \n
 Event details: https://architecturaltechnology.com/more/event-calendar/registration-101-cenv-q-a.html
PRIORITY:1
END:VEVENT
END:VCALENDAR