BEGIN:VCALENDAR
PRODID:-//Pixl8//Eventfolio//EN
VERSION:2.0
X-WR-TIMEZONE:Europe/London
CALSCALE:GREGORIAN
METHOD:PUBLISH
CLASS:PUBLIC
BEGIN:VTIMEZONE
TZID:Europe/London
LAST-MODIFIED:20260306T231828Z
TZURL:https://www.tzurl.org/zoneinfo-outlook/Europe/London
X-LIC-LOCATION:Europe/London
BEGIN:DAYLIGHT
TZNAME:BST
TZOFFSETFROM:+0000
TZOFFSETTO:+0100
DTSTART:19700329T010000
RRULE:FREQ=YEARLY;BYMONTH=3;BYDAY=-1SU
END:DAYLIGHT
BEGIN:STANDARD
TZNAME:GMT
TZOFFSETFROM:+0100
TZOFFSETTO:+0000
DTSTART:19701025T020000
RRULE:FREQ=YEARLY;BYMONTH=10;BYDAY=-1SU
END:STANDARD
END:VTIMEZONE
BEGIN:VEVENT
DTSTART;TZID=Europe/London:20250605T180000
DTEND;TZID=Europe/London:20250605T200000
DTSTAMP:20260423T194639Z
UID:{E994AD2D-F665-49B9-BD498D2C39A5EFBA}
LOCATION:Anglia Ruskin University\, Marconi Building Foyer (Ground Floor)\, ARU Chelmsford Campus\, Bishop Hall Lane\, Chelmsford\, CM1 1SQ
SUMMARY:School of Engineering & Built Environment End of Year Show 2025
DESCRIPTION:The exhibition will showcase work from students in Architectural Technology, architecture and town planning disciplines and is a wonderful opportunity to meet the next generation to discuss their ideas and plans for the future.\n
 \n
 Event details: https://architecturaltechnology.com/more/event-calendar/school-of-engineering-built-environment-end-of-year-show-2025.html
PRIORITY:1
END:VEVENT
END:VCALENDAR