BEGIN:VCALENDAR
PRODID:-//Pixl8//Eventfolio//EN
VERSION:2.0
X-WR-TIMEZONE:Europe/London
CALSCALE:GREGORIAN
METHOD:PUBLISH
CLASS:PUBLIC
BEGIN:VTIMEZONE
TZID:Europe/London
LAST-MODIFIED:20260306T231828Z
TZURL:https://www.tzurl.org/zoneinfo-outlook/Europe/London
X-LIC-LOCATION:Europe/London
BEGIN:DAYLIGHT
TZNAME:BST
TZOFFSETFROM:+0000
TZOFFSETTO:+0100
DTSTART:19700329T010000
RRULE:FREQ=YEARLY;BYMONTH=3;BYDAY=-1SU
END:DAYLIGHT
BEGIN:STANDARD
TZNAME:GMT
TZOFFSETFROM:+0100
TZOFFSETTO:+0000
DTSTART:19701025T020000
RRULE:FREQ=YEARLY;BYMONTH=10;BYDAY=-1SU
END:STANDARD
END:VTIMEZONE
BEGIN:VEVENT
DTSTART;TZID=Europe/London:20260514T114500
DTEND;TZID=Europe/London:20260514T123000
DTSTAMP:20260422T075034Z
UID:{98B46090-0376-4EBB-87311009E1981BF7}
LOCATION:London
SUMMARY:Small sites - big housing potential
DESCRIPTION:As part of UK Construction Week, CIAT is hosting a panel discussion to explore if small, technology-enabled housing developments can help unlock the UK's overlooked brownfield sites and play a meaningful role in tackling the housing crisis.\n
 \n
 Event details: https://architecturaltechnology.com/more/event-calendar/small-sites-big-housing-potential.html
PRIORITY:1
END:VEVENT
END:VCALENDAR