BEGIN:VCALENDAR
PRODID:-//Pixl8//Eventfolio//EN
VERSION:2.0
X-WR-TIMEZONE:Europe/London
CALSCALE:GREGORIAN
METHOD:PUBLISH
CLASS:PUBLIC
BEGIN:VTIMEZONE
TZID:Europe/London
LAST-MODIFIED:20260306T231828Z
TZURL:https://www.tzurl.org/zoneinfo-outlook/Europe/London
X-LIC-LOCATION:Europe/London
BEGIN:DAYLIGHT
TZNAME:BST
TZOFFSETFROM:+0000
TZOFFSETTO:+0100
DTSTART:19700329T010000
RRULE:FREQ=YEARLY;BYMONTH=3;BYDAY=-1SU
END:DAYLIGHT
BEGIN:STANDARD
TZNAME:GMT
TZOFFSETFROM:+0100
TZOFFSETTO:+0000
DTSTART:19701025T020000
RRULE:FREQ=YEARLY;BYMONTH=10;BYDAY=-1SU
END:STANDARD
END:VTIMEZONE
BEGIN:VEVENT
DTSTART;TZID=Europe/London:20251201T130000
DTEND;TZID=Europe/London:20251201T140000
DTSTAMP:20260422T112652Z
UID:{26866EC3-DCCB-426E-AE858A9A1ECFECEB}
LOCATION:Online
SUMMARY:Stone Futures 3 - Embodied Carbon of Slate
DESCRIPTION:A new lunchtime CPD seminar series dedicated to one of the most enduring yet ever evolving materials in our built environment: Stone\n
 \n
 Event details: https://architecturaltechnology.com/more/event-calendar/stone-futures-3-embodied-carbon-of-slate.html
PRIORITY:1
END:VEVENT
END:VCALENDAR