BEGIN:VCALENDAR
PRODID:-//Pixl8//Eventfolio//EN
VERSION:2.0
X-WR-TIMEZONE:Europe/London
CALSCALE:GREGORIAN
METHOD:PUBLISH
CLASS:PUBLIC
BEGIN:VTIMEZONE
TZID:Europe/London
LAST-MODIFIED:20260306T231828Z
TZURL:https://www.tzurl.org/zoneinfo-outlook/Europe/London
X-LIC-LOCATION:Europe/London
BEGIN:DAYLIGHT
TZNAME:BST
TZOFFSETFROM:+0000
TZOFFSETTO:+0100
DTSTART:19700329T010000
RRULE:FREQ=YEARLY;BYMONTH=3;BYDAY=-1SU
END:DAYLIGHT
BEGIN:STANDARD
TZNAME:GMT
TZOFFSETFROM:+0100
TZOFFSETTO:+0000
DTSTART:19701025T020000
RRULE:FREQ=YEARLY;BYMONTH=10;BYDAY=-1SU
END:STANDARD
END:VTIMEZONE
BEGIN:VEVENT
DTSTART;TZID=Europe/London:20250516T090000
DTEND;TZID=Europe/London:20250517T170000
DTSTAMP:20260423T233332Z
UID:{E7784170-86FE-4841-83F34B85730E673D}
LOCATION:National Self Build & Renovation Centre
SUMMARY:The Festival of Sustainable Homes
DESCRIPTION:The ‘Festival of Sustainable Homes’ is an exciting, family-friendly show, highlighting how we can enjoy better sustainable homes, reducing our energy bills and impact on the environment.\n
 \n
 Event details: https://architecturaltechnology.com/more/event-calendar/the-festival-of-sustainable-homes.html
PRIORITY:1
END:VEVENT
END:VCALENDAR