BEGIN:VCALENDAR
PRODID:-//Pixl8//Eventfolio//EN
VERSION:2.0
X-WR-TIMEZONE:Europe/London
CALSCALE:GREGORIAN
METHOD:PUBLISH
CLASS:PUBLIC
BEGIN:VTIMEZONE
TZID:Europe/London
LAST-MODIFIED:20260306T231828Z
TZURL:https://www.tzurl.org/zoneinfo-outlook/Europe/London
X-LIC-LOCATION:Europe/London
BEGIN:DAYLIGHT
TZNAME:BST
TZOFFSETFROM:+0000
TZOFFSETTO:+0100
DTSTART:19700329T010000
RRULE:FREQ=YEARLY;BYMONTH=3;BYDAY=-1SU
END:DAYLIGHT
BEGIN:STANDARD
TZNAME:GMT
TZOFFSETFROM:+0100
TZOFFSETTO:+0000
DTSTART:19701025T020000
RRULE:FREQ=YEARLY;BYMONTH=10;BYDAY=-1SU
END:STANDARD
END:VTIMEZONE
BEGIN:VEVENT
DTSTART;TZID=Europe/London:20260424T110000
DTEND;TZID=Europe/London:20260424T120000
DTSTAMP:20260423T153944Z
UID:{B23E4864-9C9D-4D23-97EE83C90D26D231}
LOCATION:
SUMMARY:The invisible foundation: Prioritising mental well-being in home improvement
DESCRIPTION:This webinar offers an opportunity to hear different perspectives from across the sector, share experiences and be part of a wider conversation about how the industry is evolving.\n
 \n
 Event details: https://architecturaltechnology.com/more/event-calendar/the-invisible-foundation-prioritising-mental-well-being-in-home-improvement.html
PRIORITY:1
END:VEVENT
END:VCALENDAR