BEGIN:VCALENDAR
PRODID:-//Pixl8//Eventfolio//EN
VERSION:2.0
X-WR-TIMEZONE:Europe/Berlin
CALSCALE:GREGORIAN
METHOD:PUBLISH
CLASS:PUBLIC
BEGIN:VTIMEZONE
TZID:Europe/Berlin
LAST-MODIFIED:20260306T231828Z
TZURL:https://www.tzurl.org/zoneinfo-outlook/Europe/Berlin
X-LIC-LOCATION:Europe/Berlin
BEGIN:DAYLIGHT
TZNAME:CEST
TZOFFSETFROM:+0100
TZOFFSETTO:+0200
DTSTART:19700329T020000
RRULE:FREQ=YEARLY;BYMONTH=3;BYDAY=-1SU
END:DAYLIGHT
BEGIN:STANDARD
TZNAME:CET
TZOFFSETFROM:+0200
TZOFFSETTO:+0100
DTSTART:19701025T030000
RRULE:FREQ=YEARLY;BYMONTH=10;BYDAY=-1SU
END:STANDARD
END:VTIMEZONE
BEGIN:VEVENT
DTSTART;TZID=Europe/Berlin:20250429T161500
DTEND;TZID=Europe/Berlin:20250429T173000
DTSTAMP:20260423T193236Z
UID:{07722EBB-E608-486A-9EAD122C91B36D04}
LOCATION:VIA University College Campus \, Banegårdsgade 2\, 8700 Horsens
SUMMARY:Where it’s AT: Insight into International Architectural Technology | Aarhus
DESCRIPTION:Event details: https://architecturaltechnology.com/more/event-calendar/where-it-s-at-insight-into-international-architectural-technology-aarhus.html
PRIORITY:1
END:VEVENT
END:VCALENDAR