BEGIN:VCALENDAR
PRODID:-//Pixl8//Eventfolio//EN
VERSION:2.0
X-WR-TIMEZONE:Europe/London
CALSCALE:GREGORIAN
METHOD:PUBLISH
CLASS:PUBLIC
BEGIN:VTIMEZONE
TZID:Europe/London
LAST-MODIFIED:20260306T231828Z
TZURL:https://www.tzurl.org/zoneinfo-outlook/Europe/London
X-LIC-LOCATION:Europe/London
BEGIN:DAYLIGHT
TZNAME:BST
TZOFFSETFROM:+0000
TZOFFSETTO:+0100
DTSTART:19700329T010000
RRULE:FREQ=YEARLY;BYMONTH=3;BYDAY=-1SU
END:DAYLIGHT
BEGIN:STANDARD
TZNAME:GMT
TZOFFSETFROM:+0100
TZOFFSETTO:+0000
DTSTART:19701025T020000
RRULE:FREQ=YEARLY;BYMONTH=10;BYDAY=-1SU
END:STANDARD
END:VTIMEZONE
BEGIN:VEVENT
DTSTART;TZID=Europe/London:20251203T133000
DTEND;TZID=Europe/London:20251203T153000
DTSTAMP:20260424T051456Z
UID:{916EB6F5-C80E-458D-B2325B3C09769E27}
LOCATION:Fife College
SUMMARY:Women in retrofit: Building knowledge, community & practice
DESCRIPTION:Hosted by CIAT Scotland East & Women in Architectural Technology, as part of Fife College Green Skills & Retrofit Forum.\n
 \n
 Event details: https://architecturaltechnology.com/more/event-calendar/women-in-retrofit-building-knowledge-community-practice.html
PRIORITY:1
END:VEVENT
END:VCALENDAR