BEGIN:VCALENDAR
PRODID:-//Pixl8//Eventfolio//EN
VERSION:2.0
X-WR-TIMEZONE:Europe/London
CALSCALE:GREGORIAN
METHOD:PUBLISH
CLASS:PUBLIC
BEGIN:VTIMEZONE
TZID:Europe/London
LAST-MODIFIED:20260306T231828Z
TZURL:https://www.tzurl.org/zoneinfo-outlook/Europe/London
X-LIC-LOCATION:Europe/London
BEGIN:DAYLIGHT
TZNAME:BST
TZOFFSETFROM:+0000
TZOFFSETTO:+0100
DTSTART:19700329T010000
RRULE:FREQ=YEARLY;BYMONTH=3;BYDAY=-1SU
END:DAYLIGHT
BEGIN:STANDARD
TZNAME:GMT
TZOFFSETFROM:+0100
TZOFFSETTO:+0000
DTSTART:19701025T020000
RRULE:FREQ=YEARLY;BYMONTH=10;BYDAY=-1SU
END:STANDARD
END:VTIMEZONE
BEGIN:VEVENT
DTSTART;TZID=Europe/London:20260120T120000
DTEND;TZID=Europe/London:20260120T130000
DTSTAMP:20260423T140041Z
UID:{9EDE0B5F-3D5A-46E4-8416AE6E3BEEDFEF}
LOCATION:
SUMMARY:Your Guiide to make retirement planning simple - power hour
DESCRIPTION:An interactive session where CIAT members and affiliates will receive a live demonstration of Guide's innovative retirement planning platform designed to help you take control of your financial future.\n
 \n
 Event details: https://architecturaltechnology.com/more/event-calendar/your-guiide-to-make-retirement-planning-simple-power-hour.html
PRIORITY:1
END:VEVENT
END:VCALENDAR