BEGIN:VCALENDAR
PRODID:-//Pixl8//Eventfolio//EN
VERSION:2.0
X-WR-TIMEZONE:Etc/GMT+2
CALSCALE:GREGORIAN
METHOD:PUBLISH
CLASS:PUBLIC
BEGIN:VTIMEZONE
TZID:Etc/GMT+2
LAST-MODIFIED:20260306T231828Z
TZURL:https://www.tzurl.org/zoneinfo-outlook/Etc/GMT+2
X-LIC-LOCATION:Etc/GMT+2
BEGIN:STANDARD
TZNAME:-02
TZOFFSETFROM:-0200
TZOFFSETTO:-0200
DTSTART:19700101T000000
END:STANDARD
END:VTIMEZONE
BEGIN:VEVENT
DTSTART;TZID=Etc/GMT+2:20250917T160000
DTEND;TZID=Etc/GMT+2:20250917T180000
DTSTAMP:20260423T192519Z
UID:{235C0B78-DDD3-4F1A-B93905C60504972B}
LOCATION:Online
SUMMARY:Zigurat 2025 ConstruWeek
DESCRIPTION:This event is a key initiative directly related to the CIAT Accredited Master's in Global BIM Management programme.\n
 \n
 Event details: https://architecturaltechnology.com/more/event-calendar/zigurat-2025-construweek.html
PRIORITY:1
END:VEVENT
END:VCALENDAR